BEGIN:VCALENDAR
VERSION:2.0
PRODID:-//eventon.com NONSGML v1.0//EN
CALSCALE:GREGORIAN
METHOD:PUBLISH
BEGIN:VEVENT
UID:69e8578658bff
DTSTAMP:20260422T050718Z
DTSTART:20210923T191500Z
DTEND:20210923T235000Z
LOCATION:CineCiutat Carrer de l'Emperadriu Eugènia\,  6\,  07010 Palma\,  Illes Balears
SUMMARY:Softie
DESCRIPTION:SINOPSIS Boniface “Softie” Mwangi ha luchado durante años
  contra las injusticias en su país como un activista político. Ahora se
  dispone a ir un paso más allá presentándose a unas elecciones region
 ales en Kenia. Desde el momento en el que Softie toma esta decisión\,  co
 mentándole la posibilidad a su mujer[..]\nhttps://festivalaltrescinemes.c
 om/es/esdeveniment/softie/
URL:https://festivalaltrescinemes.com/es/esdeveniment/softie/
END:VEVENT
END:VCALENDAR