BEGIN:VCALENDAR
VERSION:2.0
PRODID:-//eventon.com NONSGML v1.0//EN
CALSCALE:GREGORIAN
METHOD:PUBLISH
BEGIN:VEVENT
UID:69e92732b7de2
DTSTAMP:20260422T195322Z
DTSTART:20190313T170000Z
DTEND:20190313T193000Z
LOCATION:UIB · Sala d'actes de l'edifici Ramon Llull Cra. de Valldemossa\,  km 7.5. Palma\,  Illes Balears
SUMMARY:Cinematografías africanas para entender el continente vecino
DESCRIPTION:Maria Magdalena Brotons CapóProfesora de Historia del Arte. De
 partamento de Ciencias y Teoría de las Artes de la UIB Sebastián RuizSeba
 stián Ruiz. Doctor en comunicación\,  profesor especializado en Relacione
 s Internacionales y Cines africanos\,  programador del Festival Internacion
 al de Cines Africanos de Barcelona (FICAB) y ayudante de programación del 
 Film África[..]\nhttps://festivalaltrescinemes.com/es/esdeveniment/cinemat
 ografias-africanas/
URL:https://festivalaltrescinemes.com/es/esdeveniment/cinematografias-africanas/
END:VEVENT
END:VCALENDAR