BEGIN:VCALENDAR
VERSION:2.0
PRODID:-//eventon.com NONSGML v1.0//EN
CALSCALE:GREGORIAN
METHOD:PUBLISH
BEGIN:VEVENT
UID:69ece4a212efe
DTSTAMP:20260425T155826Z
DTSTART:20190314T180000Z
DTEND:20190314T235000Z
LOCATION:CineCiutat Carrer de l'Emperadriu Eugènia\,  6\,  07010 Palma\,  Illes Balears
SUMMARY:Construcció de narratives sobre Àfrica. El poder de canvi dels mitjans
DESCRIPTION:Migracions clandestines\,  conflictes\,  epidèmies\,  atemptat
 s&#8230; son les poques informacions que ens arriben del continent africà.
  A l’obviar la resta de realitats del continent veí\,  els mitjans de co
 municació influeixen en la percepció negativa i parcial que en tenim. Del
  canvi de perspectiva als mitjans espanyols ens en parlaran dues periodiste
 s[..]\nhttps://festivalaltrescinemes.com/esdeveniment/construccio-de-narrat
 ives-sobre-africa/
URL:https://festivalaltrescinemes.com/esdeveniment/construccio-de-narratives-sobre-africa/
END:VEVENT
END:VCALENDAR