BEGIN:VCALENDAR
VERSION:2.0
PRODID:-//eventon.com NONSGML v1.0//EN
CALSCALE:GREGORIAN
METHOD:PUBLISH
BEGIN:VEVENT
UID:69e613f737a71
DTSTAMP:20260420T115431Z
DTSTART:20210926T090000Z
DTEND:20210926T105000Z
LOCATION:
SUMMARY:Nakany Kanté
DESCRIPTION:Nakany Kanté presenta “De Conakry a Barcelone”\,  el seu 3
 er àlbum\,  editat el setembre de 2020 per Kasba Music\,  Slow Walk Music 
 i Voodoo Diggers\,  un àlbum que l’ha posicionada en les llistes dels mi
 llors discs de l’any. El magnètic afropop de Nakany Kanté es presenta e
 n acústic\,  acompanyada de[..]\nhttps://festivalaltrescinemes.com/esdeven
 iment/nakany-kante/
URL:https://festivalaltrescinemes.com/esdeveniment/nakany-kante/
END:VEVENT
END:VCALENDAR